BEGIN:VCALENDAR
VERSION:2.0
PRODID:-//Conwy Coast Deaf Golf Society - ECPv6.15.20//NONSGML v1.0//EN
CALSCALE:GREGORIAN
METHOD:PUBLISH
X-ORIGINAL-URL:https://ccdgs.co.uk
X-WR-CALDESC:Events for Conwy Coast Deaf Golf Society
REFRESH-INTERVAL;VALUE=DURATION:PT1H
X-Robots-Tag:noindex
X-PUBLISHED-TTL:PT1H
BEGIN:VTIMEZONE
TZID:UTC
BEGIN:STANDARD
TZOFFSETFROM:+0000
TZOFFSETTO:+0000
TZNAME:UTC
DTSTART:20250101T000000
END:STANDARD
END:VTIMEZONE
BEGIN:VEVENT
DTSTART;TZID=UTC:20260425T110000
DTEND;TZID=UTC:20260425T170000
DTSTAMP:20260420T131316
CREATED:20260221T154519Z
LAST-MODIFIED:20260221T154519Z
UID:5154-1777114800-1777136400@ccdgs.co.uk
SUMMARY:Sherdley Golf Club - Saturday 25th April 2026 - Medal Round
DESCRIPTION:Sherdley Golf Club – \nSaturday 25th April 2026 – Medal Round Claret Jug Cup \n16 players MAX – Tee off @ 11.42am – be at the clubhouse for 10am \ngreen fee – £41.00 per player \nno bacon roll or tea/coffee.  Each player responsible to purchase their own refreshments.
URL:https://ccdgs.co.uk/event/sherdley-golf-club-saturday-25th-april-2026-medal-round/
LOCATION:Sherdley Golf CLub\, Sherdley Park Golf Course\, Saint Helens WA9 5DE\, Saint Helens\, WA9 5DE\, United Kingdom
ATTACH;FMTTYPE=image/jpeg:https://ccdgs.co.uk/wp-content/uploads/2026/02/Sherdley.jpg
END:VEVENT
BEGIN:VEVENT
DTSTART;TZID=UTC:20260531T110000
DTEND;TZID=UTC:20260531T170000
DTSTAMP:20260420T131316
CREATED:20260219T211434Z
LAST-MODIFIED:20260219T211852Z
UID:5147-1780225200-1780246800@ccdgs.co.uk
SUMMARY:Old Padeswood Golf Club - Sunday 31st May 2026 - Stableford Cup
DESCRIPTION:Old Padeswood Golf Club – \nSunday 31st May 2026 – Stableford Cup \n16 players – Tee off @ 10.00am – be at the clubhouse for 9am \ngreen fee – £35.00 per player \nno bacon roll or tea/coffee.  Each player responsible to purchase their own refreshments.
URL:https://ccdgs.co.uk/event/old-padeswood-golf-club-sunday-31st-may-2026-stableford-cup/
LOCATION:Old Padeswood Golf Club\, Old Padeswood Golf Club\, Station Lane\, Mold\, Flintshire\, North Wales. CH7 4JD\, Buckley\, CH7 4JD\, United Kingdom
ATTACH;FMTTYPE=image/jpeg:https://ccdgs.co.uk/wp-content/uploads/2026/02/Screenshot-2026-02-19-211809.jpg
END:VEVENT
BEGIN:VEVENT
DTSTART;TZID=UTC:20260607T100000
DTEND;TZID=UTC:20260607T170000
DTSTAMP:20260420T131316
CREATED:20260219T212529Z
LAST-MODIFIED:20260219T212721Z
UID:5152-1780826400-1780851600@ccdgs.co.uk
SUMMARY:Prior Hayes Golf Club - Sunday 7th June 2026 - Ryder Cup
DESCRIPTION:Prior Hayes Golf Club – \nSunday 7th June 2026 – \nRyder Cup \nTee off times 11:30am – Please be at the club house for 09.30am. \nUp to 20 players – First come\, first serve. \nOne course Meal \n£51.50
URL:https://ccdgs.co.uk/event/prior-hayes-golf-club-sunday-7th-june-2026-ryder-cup/
LOCATION:Pryors Hayes Golf CLub\, Pryors Hayes\, WILLINGTON ROAD\, OSCROFT\, Chester\, Cheshire\, CH3 8NL\, United Kingdom
ATTACH;FMTTYPE=image/png:https://ccdgs.co.uk/wp-content/uploads/2024/01/PH.png
END:VEVENT
BEGIN:VEVENT
DTSTART;TZID=UTC:20260621T110000
DTEND;TZID=UTC:20260621T170000
DTSTAMP:20260420T131316
CREATED:20260221T155922Z
LAST-MODIFIED:20260221T155922Z
UID:5161-1782039600-1782061200@ccdgs.co.uk
SUMMARY:Styal Golf Club - Sunday 21st June 2026 - President Cup
DESCRIPTION:Styal Golf Club – \nSunday 21st June 2026 – President Cup \n16 players – Tee off @ 11.14am – be at the clubhouse for 10am \ngreen fee – £37.50 per player \nno bacon roll or tea/coffee.  Each player responsible to purchase their own refreshments.
URL:https://ccdgs.co.uk/event/styal-golf-club-sunday-21st-june-2026-president-cup/
LOCATION:Styal Golf Club\, Station Rd\, Styal\, Wilmslow SK9 4JN\, Wilmslow\, Cheshire\, SK9 4JN\, United Kingdom
ATTACH;FMTTYPE=image/jpeg:https://ccdgs.co.uk/wp-content/uploads/2026/02/Styal.jpg
END:VEVENT
BEGIN:VEVENT
DTSTART;TZID=UTC:20260712T113000
DTEND;TZID=UTC:20260712T170000
DTSTAMP:20260420T131316
CREATED:20240102T173543Z
LAST-MODIFIED:20260219T204712Z
UID:3774-1783855800-1783875600@ccdgs.co.uk
SUMMARY:Henllys - Sunday 12th July 2026 - Hart & Hurley Cup
DESCRIPTION:Henllys Golf Club – Hart & Hurley Cup \nSunday 12th July 2026 \nTee off times 11.30am – Please be at the club house for 10.00am. \nUp to 16 players – First come\, first serve. \nNo breakfast or Meal (You responsible of organising your own) \n£35.00 \nBuggy is available at £25 per buggy – Ask Mark Hart to pre-book yours.
URL:https://ccdgs.co.uk/event/july-2024/
LOCATION:Henllys Golf Club\, Beaumaris\, Isle Of Anglesey\, Gwynedd\, North Wales LL58 8HU\, Beaumaris\, Anglesey\, LL58 8HU\, United Kingdom
ATTACH;FMTTYPE=image/jpeg:https://ccdgs.co.uk/wp-content/uploads/2022/06/Henleys.jpg
END:VEVENT
BEGIN:VEVENT
DTSTART;TZID=UTC:20260822T110000
DTEND;TZID=UTC:20260822T170000
DTSTAMP:20260420T131316
CREATED:20240515T173443Z
LAST-MODIFIED:20260219T204659Z
UID:3773-1787396400-1787418000@ccdgs.co.uk
SUMMARY:Clay Golf Club  - Saturday 22nd August 2026 - Captain's Day
DESCRIPTION:Clay Golf Club – Saturday 22nd August 2026 – Captain’s Cup (Stableford points) \nTee off – 11.00am \nMeet at the club house 10.00am for Photoshoot. \n£35.00 \nFirst to 16 Players
URL:https://ccdgs.co.uk/event/june-2024/
LOCATION:Clay Golf Club\, Bryn Estyn Rd\, Holt\, Wrexham LL13 9UB\, Wrexham\, Wrecsam\, LL13 9UB\, United Kingdom
ATTACH;FMTTYPE=image/jpeg:https://ccdgs.co.uk/wp-content/uploads/2024/05/Clay.jpg
END:VEVENT
BEGIN:VEVENT
DTSTART;TZID=UTC:20260912T121200
DTEND;TZID=UTC:20260912T170000
DTSTAMP:20260420T131316
CREATED:20240102T173829Z
LAST-MODIFIED:20260219T205130Z
UID:3777-1789215120-1789232400@ccdgs.co.uk
SUMMARY:Woodside Golf Club - Saturday 12th September 2026 - Cheshire Cup
DESCRIPTION:Woodside Golf Club – Saturday 12th September 2026 – Cheshire Cup \nWoodside Golf Club \n16 players – Tee off @ 12.12PM – Be at the clubhouse for 11am (Photoshoot) \n£38.00 \n 
URL:https://ccdgs.co.uk/event/20-october-2024/
LOCATION:Woodside Golf Club\, Knutsford Rd\, Middlewich CW4 8HJ\, Middlewich\, Cheshire\, CW4 8HJ\, United Kingdom
ATTACH;FMTTYPE=image/jpeg:https://ccdgs.co.uk/wp-content/uploads/2024/01/Woodside-Golf-CLub.jpg
END:VEVENT
BEGIN:VEVENT
DTSTART;TZID=UTC:20261024T110000
DTEND;TZID=UTC:20261024T170000
DTSTAMP:20260420T131316
CREATED:20250505T214949Z
LAST-MODIFIED:20260227T173337Z
UID:4715-1792839600-1792861200@ccdgs.co.uk
SUMMARY:Arrows Park Golf Club - Saturday 24th October 2026 - Richard Boddy Memorial Cup
DESCRIPTION:Arrow Park Golf Club \nRichard Boddy Memorial Cup \nSaturday 24th October 2026 \nTee off times 11:00am – Please be at the club house for 10:00am. \nUp to 20 players – First come\, first serve. \nNo breakfast or Meal (You responsible of organising your own) \n£??
URL:https://ccdgs.co.uk/event/arrows-park-golf-club-saturday-25th-october-2025-richard-boddy-memorial-cup/
LOCATION:Arrowe Park Golf Club\, 174 Arrowe Park Road\, Wirral\, ch48 5lw\, United Kingdom
ATTACH;FMTTYPE=image/jpeg:https://ccdgs.co.uk/wp-content/uploads/2025/05/Arrow-Park.jpg
END:VEVENT
BEGIN:VEVENT
DTSTART;TZID=UTC:20261121T110000
DTEND;TZID=UTC:20261121T170000
DTSTAMP:20260420T131316
CREATED:20240102T173915Z
LAST-MODIFIED:20260219T204639Z
UID:3778-1795258800-1795280400@ccdgs.co.uk
SUMMARY:Rhos-On-Sea Golf Club - Saturday 21st November 2026 - Charity Cup
DESCRIPTION:Rhos-On-Sea Golf Club – \nSaturday 21st November 2026 – Charity Cup \n16 players – Tee off @ 11.00am – be at the clubhouse for 10am \ngreen fee – £34.00 per player \nno bacon roll or tea/coffee.  Each player responsible to purchase their own refreshments.
URL:https://ccdgs.co.uk/event/november-2024/
LOCATION:Rhos-On-Sea Golf Club\, RhosOnSea Golf CLub\, Glan-Y-Mor Road\, Penrhyn Bay\,\, Llandudno\, Conwy\, LL30 3PU\, United Kingdom
ATTACH;FMTTYPE=image/png:https://ccdgs.co.uk/wp-content/uploads/2023/03/rhos-on-sea-golf-club.png
END:VEVENT
BEGIN:VEVENT
DTSTART;TZID=UTC:20261229T110000
DTEND;TZID=UTC:20261229T170000
DTSTAMP:20260420T131316
CREATED:20260221T160715Z
LAST-MODIFIED:20260221T160715Z
UID:5164-1798542000-1798563600@ccdgs.co.uk
SUMMARY:Prestatyn Golf Club - Tuesday 29th December 2026 - Terry Williams Memorial Cup
DESCRIPTION:Prestatyn Golf Club – \nTuesday 29th December 2026 – Terry Williams Memorial Cup \n16 players – Tee off @ 10:30am – be at the clubhouse for 09:30am \ngreen fee – £??.?? per player \nno bacon roll or tea/coffee.  Each player responsible to purchase their own refreshments.
URL:https://ccdgs.co.uk/event/prestatyn-golf-club-tuesday-29th-december-2026-terry-williams-memorial-cup/
LOCATION:Prestatyn Golf Club\, Marine Rd E\, Prestatyn LL19 7HS\, Prestatyn\, LL19 7HS
ATTACH;FMTTYPE=image/jpeg:https://ccdgs.co.uk/wp-content/uploads/2026/02/Screenshot-2026-02-21-160621.jpg
END:VEVENT
END:VCALENDAR