BEGIN:VCALENDAR
VERSION:2.0
PRODID:-//Conwy Coast Deaf Golf Society - ECPv6.15.20//NONSGML v1.0//EN
CALSCALE:GREGORIAN
METHOD:PUBLISH
X-ORIGINAL-URL:https://ccdgs.co.uk
X-WR-CALDESC:Events for Conwy Coast Deaf Golf Society
REFRESH-INTERVAL;VALUE=DURATION:PT1H
X-Robots-Tag:noindex
X-PUBLISHED-TTL:PT1H
BEGIN:VTIMEZONE
TZID:UTC
BEGIN:STANDARD
TZOFFSETFROM:+0000
TZOFFSETTO:+0000
TZNAME:UTC
DTSTART:20230101T000000
END:STANDARD
END:VTIMEZONE
BEGIN:VEVENT
DTSTART;TZID=UTC:20260418T110000
DTEND;TZID=UTC:20260418T170000
DTSTAMP:20260420T131430
CREATED:20260221T155240Z
LAST-MODIFIED:20260221T155240Z
UID:5158-1776510000-1776531600@ccdgs.co.uk
SUMMARY:North Wales Deaf Golf Open - Saturday 18th April 2026
DESCRIPTION:North Wales Deaf Golf Open 2026 \nRhos-On-Sea Golf Club – \nSaturday 18th April 2026 – Gross/Nett and Stableford \nUnlimited players – Tee off @ 09.00am – be at the clubhouse for 8am \ngreen fee – £50.00 per player \nno bacon roll or tea/coffee.  Each player responsible to purchase their own refreshments.
URL:https://ccdgs.co.uk/event/north-wales-deaf-golf-open-saturday-18th-april-2026/
LOCATION:Rhos-On-Sea Golf Club\, RhosOnSea Golf CLub\, Glan-Y-Mor Road\, Penrhyn Bay\,\, Llandudno\, Conwy\, LL30 3PU\, United Kingdom
ATTACH;FMTTYPE=image/png:https://ccdgs.co.uk/wp-content/uploads/2023/03/rhos-on-sea-golf-club.png
END:VEVENT
BEGIN:VEVENT
DTSTART;TZID=UTC:20260314T100000
DTEND;TZID=UTC:20260314T170000
DTSTAMP:20260420T131430
CREATED:20260219T210305Z
LAST-MODIFIED:20260302T085116Z
UID:5136-1773482400-1773507600@ccdgs.co.uk
SUMMARY:Bowring Golf Club - Saturday 14th March 2026 - Merseyside Cup
DESCRIPTION:Bowring Golf Club – Saturday 14th March 2026 – Merseyside Cup (Stableford) \nTee off times 10.00am – Please be at the club house for 09.00am. \nUp to 20 players – First come\, first serve. \nNo breakfast or Meal (You responsilble of organising your own) \n£32.50
URL:https://ccdgs.co.uk/event/bowring-golf-club-saturday-14th-march-2026-merseyside-cup/
LOCATION:Bowring Golf Club\, Roby Rd\, Huyton Liverpool\, L36 4HD\, Liverpool\, L36 4HD\, United Kingdom
ATTACH;FMTTYPE=image/jpeg:https://ccdgs.co.uk/wp-content/uploads/2026/02/Screenshot-2026-02-19-210731.jpg
END:VEVENT
BEGIN:VEVENT
DTSTART;TZID=UTC:20250928T100000
DTEND;TZID=UTC:20250928T170000
DTSTAMP:20260420T131430
CREATED:20240102T173315Z
LAST-MODIFIED:20250320T210424Z
UID:3772-1759053600-1759078800@ccdgs.co.uk
SUMMARY:Heyrose Golf Club - Sunday 28th September 2025 - Cheshire Cup
DESCRIPTION:Heyrose Golf Club \nCheshire Cup \nSunday 28th September 2025 \nTee off times 10.00am – Please be at the club house for 09.00am. \nUp to 16 players – First come\, first serve. \nNo breakfast or Meal (You responsilble of organising your own) \n£45
URL:https://ccdgs.co.uk/event/april-2024/
LOCATION:Styal Golf Club\, Station Rd\, Styal\, Wilmslow SK9 4JN\, Wilmslow\, Cheshire\, SK9 4JN\, United Kingdom
ATTACH;FMTTYPE=image/jpeg:https://ccdgs.co.uk/wp-content/uploads/2024/01/Heyrose.jpg
END:VEVENT
BEGIN:VEVENT
DTSTART;TZID=UTC:20250810T090500
DTEND;TZID=UTC:20250810T170000
DTSTAMP:20260420T131430
CREATED:20240121T141253Z
LAST-MODIFIED:20250320T205411Z
UID:4033-1754816700-1754845200@ccdgs.co.uk
SUMMARY:Northop Golf Club - 10th August 2025 Captain Cup
DESCRIPTION:Northop Golf Club – Captain Cup \nSaturday 17th August 2024 \nTee off times 09.05am – Please be at the club house for 08.00am. \nUp to 12 players – First come\, first serve. \nNo breakfast or Meal (You responsilble of organising your own) \n£45.00 \n 
URL:https://ccdgs.co.uk/event/biston-golf-club-17th-august-2024-captain-cup/
LOCATION:Northop Golf Club\, Northop Country Park Golf Club\, Northop\, Mold CH7 6WA\, Northop\, Flintshire\, CH7 6WA\, United Kingdom
ATTACH;FMTTYPE=image/jpeg:https://ccdgs.co.uk/wp-content/uploads/2024/01/Northop.jpg
END:VEVENT
BEGIN:VEVENT
DTSTART;TZID=UTC:20250618T110400
DTEND;TZID=UTC:20250618T170000
DTSTAMP:20260420T131430
CREATED:20250524T125216Z
LAST-MODIFIED:20250524T195816Z
UID:4720-1750244640-1750266000@ccdgs.co.uk
SUMMARY:Senior Cup (Over 55 Years Old) - Ellesmere Port -Wednesday June 18th 2025
DESCRIPTION:Ellesmere Port Golf Club – Senior Cup (Over 55 years old only) \nWednesday 18th June 2025 \nTee off times 11.04amam – Please be at the club house for 9.30am. \nUp to 12 players – First come\, first serve. \nNo Bacon roll or Tea/Coffee. You are responsible of organising your own. \n£20.00
URL:https://ccdgs.co.uk/event/senior-cup-ellesmere-port-wednesday-june-18th-2025/
LOCATION:Ellesmere Port Golf Club\, Chester Rd\, Little Sutton\, Ellesmere Port CH66 1QF\, Little Sutton\, Cheshire\, CH66 1QF\, United Kingdom
ATTACH;FMTTYPE=image/jpeg:https://ccdgs.co.uk/wp-content/uploads/2024/01/Ellesmere-Port.jpg
END:VEVENT
BEGIN:VEVENT
DTSTART;TZID=UTC:20250525T141200
DTEND;TZID=UTC:20250525T190000
DTSTAMP:20260420T131430
CREATED:20240102T173739Z
LAST-MODIFIED:20250320T202210Z
UID:3776-1748182320-1748199600@ccdgs.co.uk
SUMMARY:Abergele Golf Club - Sunday 25th May 2025 - Stableford Cup
DESCRIPTION:Abergele Golf Club \nStableford Cup \nTee off times 14.12pm – Please be at the club house for 13.00pm. \nUp to 16 players – First come\, first serve. \nNo breakfast or Meal (You responsilble of organising your own) \n£50.00
URL:https://ccdgs.co.uk/event/15-september-2024/
LOCATION:Abergele Golf Club\, Abergele Golf Club Tan-Y-Gopa Road\,\, Abergele\, Conwy\, LL22 8DS\, United Kingdom
ATTACH;FMTTYPE=image/jpeg:https://ccdgs.co.uk/wp-content/uploads/2024/01/Abergele.jpg
END:VEVENT
BEGIN:VEVENT
DTSTART;TZID=UTC:20250323T102400
DTEND;TZID=UTC:20250323T170000
DTSTAMP:20260420T131430
CREATED:20240102T170716Z
LAST-MODIFIED:20250320T200340Z
UID:3766-1742725440-1742749200@ccdgs.co.uk
SUMMARY:Ellesmere Port -Sunday 23rd March 2025 - Merseyside Cup
DESCRIPTION:Ellesmere Port Golf Club – Merseyside Cup \n23rd March 2025 \nTee off times 10.24am – Please be at the club house for 9.30am. \nUp to 16 players – First come\, first serve. \nNo Bacon roll or Tea/Coffee. You are responsible of organising your own. \n£20.00
URL:https://ccdgs.co.uk/event/31-march-2024/
LOCATION:Ellesmere Port Golf Club\, Chester Rd\, Little Sutton\, Ellesmere Port CH66 1QF\, Little Sutton\, Cheshire\, CH66 1QF\, United Kingdom
ATTACH;FMTTYPE=image/jpeg:https://ccdgs.co.uk/wp-content/uploads/2024/01/Ellesmere-Port.jpg
END:VEVENT
BEGIN:VEVENT
DTSTART;TZID=UTC:20241228T110000
DTEND;TZID=UTC:20241228T170000
DTSTAMP:20260420T131430
CREATED:20240102T174011Z
LAST-MODIFIED:20240216T093810Z
UID:3779-1735383600-1735405200@ccdgs.co.uk
SUMMARY:Upton Golf CLub Saturday 28th December 2024 - Terry WIlliams Memorial Cup
DESCRIPTION:Upton Golf Club – Saturday 28th December 2024 – Terry WIlliams Memorial Cup \nTee off 11.06am \nPlease be at club house by 10am \nMax 16 players \n£30 per player
URL:https://ccdgs.co.uk/event/december-2024/
ATTACH;FMTTYPE=image/png:https://ccdgs.co.uk/wp-content/uploads/2024/01/Upton.png
END:VEVENT
BEGIN:VEVENT
DTSTART;TZID=UTC:20240512T100000
DTEND;TZID=UTC:20240512T170000
DTSTAMP:20260420T131430
CREATED:20240102T173353Z
LAST-MODIFIED:20240216T093934Z
UID:3771-1715508000-1715533200@ccdgs.co.uk
SUMMARY:West Derby - Sunday 12th May 2024 - Merseyside Cup
DESCRIPTION:West Derby Golf Club – Merseyside Cup12th May 2024 \nTee off times 11.00am – Please be at the club house for 10.00am. \nUp to 16 players – First come\, first serve. \nNo breakfast or Meal (You responsilble of organising your own) \n£35.00
URL:https://ccdgs.co.uk/event/may-2024/
LOCATION:West Derby Golf Club\, WEST DERBY GOLF CLUB Yew Tree Lane\, West Derby\, Liverpool\, Merseyside\, L12 9HQ\, United Kingdom
ATTACH;FMTTYPE=image/jpeg:https://ccdgs.co.uk/wp-content/uploads/2023/03/West-Derby.jpg
END:VEVENT
BEGIN:VEVENT
DTSTART;TZID=UTC:20240217T140000
DTEND;TZID=UTC:20240217T160000
DTSTAMP:20260420T131430
CREATED:20240102T191252Z
LAST-MODIFIED:20240102T191514Z
UID:3791-1708178400-1708185600@ccdgs.co.uk
SUMMARY:CCDGS AGM Saturday 17th February 2024
DESCRIPTION:CCDGS AGM Saturday 17th February 2024 \nAGM will start 14.00pm and finish 16.00pm. \ntea/coffee and Biscuits will be available. \n 
URL:https://ccdgs.co.uk/event/ccdgs-agm-saturday-17th-february-2024/
LOCATION:Chester Deaf AGM\, Chester Deaf Centre\, Southview road\, Chester\, United Kingdom
ATTACH;FMTTYPE=image/jpeg:https://ccdgs.co.uk/wp-content/uploads/2024/01/IMG_5017.jpeg
END:VEVENT
END:VCALENDAR